BEGIN:VCALENDAR
VERSION:2.0
PRODID:Events Booking
BEGIN:VEVENT
UID:69e76d0960817
SUMMARY:Retiro estoico 24 horas - Oscuridad\, silencio y ayuno 
DESCRIPTION:Un viaje profundo para desconectarte del ruido exterior y sumer
 girte en tu luz interior
 Imagina 24 horas en total oscuridad. Sin distra
 cciones.
 Sumérgete en el silencio y permite que tu luz se exprese sin i
 nterferencias.
 Este retiro de oscuridad y ayuno es un portal hacia la tr
 ansformación. En la quietud absoluta\, tu cuerpo y mente se liberan de to
 xinas\, bloqueos y ruido mental. Dejando que tu cuerpo se renueve\, sentir
 ás una claridad profunda y una energía completamente revitalizada.
 
 🔥 Purifica y reinicia tu sistema.
 🖤 Rompe patrones y libera pesos 
 emocionales.
 💡 Reconéctate con tu verdadera esencia.
 Si buscas un 
 reinicio real\, una limpieza total y un viaje hacia lo más profundo de ti
 \, este es tu momento. ¿Te atreves a sumergirte en la oscuridad para enco
 ntrar tu luz? ✨
 ¿Qué es un Retiro de Oscuridad?
 Es una práctica a
 ncestral utilizada por distintas tradiciones para meditar y alcanzar estad
 os elevados de consciencia. La ausencia de luz y estímulos externos permi
 te acceder a una percepción más refinada\, promoviendo la calma\, el equ
 ilibrio y la conexión interior. En este retiro se practicará también el
  silencio absoluto y un ayuno de sólidos\, permitiendo al cuerpo y la men
 te renovarse completamente. La oscuridad favorece la activación de la gl
 ándula pineal\, lo que contribuye a una mayor claridad mental y a la regu
 lación de los ritmos biológicos.
 &nbsp\;
 Algunos beneficios de esta 
 experiencia:
 
 Profundización en la práctica espiritual y en el autoc
 onocimiento.
 
 
 Reducción del estrés y la sobrecarga mental acumula
 da.
 Regeneración del sistema nervioso y equilibrio emocional.
 Detox f
 ísico y mental que favorece la renovación del organismo.
 Claridad en l
 a toma de decisiones y resolución de bloqueos internos.
 Reinicio emocio
 nal y energético\, proporcionando una sensación de renacimiento.
 Explo
 ración del propósito y significado personal desde una nueva perspectiva.
 
 Mayor sensibilidad y percepción intuitiva\, al desconectar de estímul
 os externos.
 
 Detalles del retiro:
 https://inspyria.com/es/retiros/2
 4-horas-de-oscuridad-ayuno-y-silencio
 📍 Ubicación: Espacio adecuado 
 para la introspección y la calma\, en Tudela (Navarra).⏳ Duración: 24 
 horas en completa oscuridad que facilita ir hacia lo profundo.🤫 Silenci
 o absoluto: No habrá interacción verbal con los demás participantes\, p
 ara promover la introspección y el autoconocimiento.🥤 Ayuno de sólido
 s: Se proporcionan infusiones\, caldos y bebida isotónica remineralizante
  “marca de la casa” para mantener la hidratación y favorecer la depur
 ación.👥 Grupo muy reducido\, para que el ambiente sea íntimo y seguro
 .
 La persona que facilta el retiro propondrá diversas actividades volun
 tarias cuyo propósito es abrir de diversos modos el cuerpo y la mente\, p
 ara profundizar al máximo en la experiencia.
 __________________________
 __________________________________________________________
 Importante: e
 ste retiro es intensivo y muy estoico. Un MÁXIMO DE 6 PERSONAS COMPARTIR
 ÉIS una estancia grande\; cada persona tendrá su espacio con esterillas\
 , cojin y mantas. Puedes mantenerte en vigilia&nbsp\; o dormir el rato que
  quieras\, eso sí\, en el suelo.&nbsp\; Hay un&nbsp\; baño con ducha.&nb
 sp\; CUANDO TE INSCRIBAS TE INDICAREMOS LO QUE DEBES Y PUEDES TRAER.
 ___
 __________________________________________________________________________
 ___________________
 Adicionalmente \, hay una estancia INDIVIDUAL con pr
 ivacidad y colchón. Pregúntanos disponibilidad. El precio en este caso e
 s 235 euros.&nbsp\;&nbsp\; Comparte el&nbsp\; baño con ducha.&nbsp\; CUAN
 DO TE INSCRIBAS TE INDICAREMOS LO QUE DEBES Y PUEDES TRAER.
LOCATION:Calle Ernestina de Champourcin\, Tudela\, Ribera\, 31500\, España
DTSTART:20260424T200000Z
DTEND:20260425T200000Z
DTSTAMP:20250313T200919Z
ORGANIZER;CN=Respiración Somática:MAILTO:hola@respiracionsomatica.com
GEO:42.062028;-1.614284
X-APPLE-STRUCTURED-LOCATION;VALUE=URI;X-ADDRESS=Calle Ernestina de Champour
 cin\, Tudela\, Ribera\, 31500\, España;X-APPLE-RADIUS=72;X-TITLE=Espacio 
 Ommm:42.062028;-1.614284
END:VEVENT
END:VCALENDAR